BEGIN:VCALENDAR
VERSION:2.0
PRODID:-//UM Partnership with West Baltimore - ECPv4.6.26.2//NONSGML v1.0//EN
CALSCALE:GREGORIAN
METHOD:PUBLISH
X-WR-CALNAME:UM Partnership with West Baltimore
X-ORIGINAL-URL:https://umpartnershipwithwestbaltimore.org
X-WR-CALDESC:Events for UM Partnership with West Baltimore
BEGIN:VEVENT
DTSTART;TZID=UTC+0:20250721T160000
DTEND;TZID=UTC+0:20250721T180000
DTSTAMP:20260422T135425
CREATED:20250721T180947Z
LAST-MODIFIED:20250721T184956Z
UID:20991-1753113600-1753120800@umpartnershipwithwestbaltimore.org
SUMMARY:Warehouse Lot Processors
DESCRIPTION:Every week day\, we go to businesses and collect e-waste donations. We have a 26-foot box truck that we use for these collections. Sometimes our drivers may not have time to pull the donations off of the truck. We need to process all of our donations within 2 weeks from the time they’re picked up. That’s where we need help. We need a team of four people to pull gaylords off of the truck\, weigh them\, separate them and possibly process them. \nYou would gain experience in warehouse operations\, e-waste recycling\, and processing items such as laptops\, desktops\, monitors\, keyboards\, or any other computer peripheral. You will also be helping a nonprofit organization to get low-cost laptops into the hands of low-income individuals. \n
URL:https://umpartnershipwithwestbaltimore.org/opportunity/warehouse-lot-processors/2025-07-21/
LOCATION:2901 East Biddle Street\, 2901 East Biddle Street\, Baltimore\, MD\, 21213
GEO:39.3045133;-76.5761339
X-APPLE-STRUCTURED-LOCATION;VALUE=URI;X-ADDRESS=2901 East Biddle Street 2901 East Biddle Street Baltimore MD 21213;X-APPLE-RADIUS=500;X-TITLE=2901 East Biddle Street:geo:-76.5761339,39.3045133
ORGANIZER;CN="PCS%20For%20Pennsylavania":MAILTO:SRamos@PCsForPeople.org
END:VEVENT
END:VCALENDAR