BEGIN:VCALENDAR
VERSION:2.0
PRODID:-//UM Partnership with West Baltimore - ECPv4.6.26.2//NONSGML v1.0//EN
CALSCALE:GREGORIAN
METHOD:PUBLISH
X-WR-CALNAME:UM Partnership with West Baltimore
X-ORIGINAL-URL:https://umpartnershipwithwestbaltimore.org
X-WR-CALDESC:Events for UM Partnership with West Baltimore
BEGIN:VEVENT
DTSTART;TZID=UTC+0:20250915T080000
DTEND;TZID=UTC+0:20251231T170000
DTSTAMP:20260422T192150
CREATED:20250915T213232Z
LAST-MODIFIED:20250917T184837Z
UID:21093-1757923200-1767200400@umpartnershipwithwestbaltimore.org
SUMMARY:Volunteers wanted for "Lori's Hands"
DESCRIPTION:Lori’s Hands is an intergenerational service learning experience. Students make weekly visits to community members with chronic diseases to assist with daily activities and\, in turn\, learn about the real life experience of chronic illness. \nVolunteers grocery shop\, do yard work\, light cleaning and organizing; they even come just for a friendly visit. Volunteers typically serve one time per week for a 1 – 2 hour visit. Lori’s Hands offers internships and field placements each semester (including winter & summer) for students who want additional experience and hours. \nCollege students in good standing at a partnering institution who demonstrate genuine interest in health care and service are eligible to volunteer with Lori’s Hands. \nFor more information\, please contact Maddie Hagerty\, Baltimore Chapter Manager\, at (302) 440-5454.  Please see the website:  www.lorishands.org \n  \n
URL:https://umpartnershipwithwestbaltimore.org/opportunity/volunteers-wanted-for-loris-hands/
LOCATION:MD\, United States
GEO:39.0457549;-76.6412712
END:VEVENT
END:VCALENDAR