BEGIN:VCALENDAR
VERSION:2.0
PRODID:-//UM Partnership with West Baltimore - ECPv4.6.26.2//NONSGML v1.0//EN
CALSCALE:GREGORIAN
METHOD:PUBLISH
X-WR-CALNAME:UM Partnership with West Baltimore
X-ORIGINAL-URL:https://umpartnershipwithwestbaltimore.org
X-WR-CALDESC:Events for UM Partnership with West Baltimore
BEGIN:VEVENT
DTSTART;TZID=UTC+0:20250724T213900
DTEND;TZID=UTC+0:20250724T213900
DTSTAMP:20260422T110641
CREATED:20250724T213932Z
LAST-MODIFIED:20250730T180551Z
UID:21016-1753393140-1753393140@umpartnershipwithwestbaltimore.org
SUMMARY:Volunteers needed for STEM Program
DESCRIPTION:Mother Mary Lange Catholic school is looking for STEM or engineering students and professionals who are willing to assist with robotics coaching. \nVolunteer will meet with students two to three times a week from 3:00pm – 5:00pm and follow the first Lego League curriculum for building and research. \nThe hope is to continue to have two teams containing students in grades 5th – 8th. Each team will have two to six students. \n
URL:https://umpartnershipwithwestbaltimore.org/opportunity/volunteers-needed-for-stem-program/
LOCATION:Mother Mary Lange Catholic School\, 200 North Martin Luther King Jr. Blvd\, Baltimore\, 21201
GEO:39.2917022;-76.6283419
X-APPLE-STRUCTURED-LOCATION;VALUE=URI;X-ADDRESS=Mother Mary Lange Catholic School 200 North Martin Luther King Jr. Blvd Baltimore 21201;X-APPLE-RADIUS=500;X-TITLE=200 North Martin Luther King Jr. Blvd:geo:-76.6283419,39.2917022
ORGANIZER;CN="Dr.%20%20Cynthia%20Tilghman-Lee":MAILTO:ctilghmanlee@mmlcs.org
END:VEVENT
END:VCALENDAR