BEGIN:VCALENDAR
VERSION:2.0
PRODID:-//UM Partnership with West Baltimore - ECPv4.6.26.2//NONSGML v1.0//EN
CALSCALE:GREGORIAN
METHOD:PUBLISH
X-WR-CALNAME:UM Partnership with West Baltimore
X-ORIGINAL-URL:https://umpartnershipwithwestbaltimore.org
X-WR-CALDESC:Events for UM Partnership with West Baltimore
BEGIN:VEVENT
DTSTART;TZID=UTC+0:20240906T120000
DTEND;TZID=UTC+0:20240906T143000
DTSTAMP:20260421T110430
CREATED:20230526T205321Z
LAST-MODIFIED:20240829T153526Z
UID:17207-1725624000-1725633000@umpartnershipwithwestbaltimore.org
SUMMARY:Allen AME Food Distributions
DESCRIPTION:Are you looking for a way to make a real difference in your community? We’re seeking passionate volunteers to help with our weekly food distribution at Allen AME Church. Every week\, we distribute food to families in need\, and your help can make all the difference. \nAs a volunteer\, you’ll assist in organizing\, packing\, and distributing food to those in need\, while gaining valuable experience and connecting with fellow students who share your commitment to service. \nNo experience is required—just a heart for helping others and a willingness to lend a hand. Plus\, it’s a great way to fulfill community service hours and build your resume! \nJoin us in making a positive impact. Sign up today and be a part of something truly meaningful. \nFor more information and to volunteer\, contact Angela Reed. \n
URL:https://umpartnershipwithwestbaltimore.org/opportunity/maryland-food-bank-volunteer-opportunities/2024-09-06/
LOCATION:MD\, United States
GEO:39.0457549;-76.6412712
ORGANIZER;CN="Angel%20Reed":MAILTO:a-leak@msn.com
END:VEVENT
END:VCALENDAR