BEGIN:VCALENDAR
VERSION:2.0
PRODID:-//UM Partnership with West Baltimore - ECPv4.6.26.2//NONSGML v1.0//EN
CALSCALE:GREGORIAN
METHOD:PUBLISH
X-WR-CALNAME:UM Partnership with West Baltimore
X-ORIGINAL-URL:https://umpartnershipwithwestbaltimore.org
X-WR-CALDESC:Events for UM Partnership with West Baltimore
BEGIN:VEVENT
DTSTART;TZID=UTC+0:20250427T110000
DTEND;TZID=UTC+0:20250427T143000
DTSTAMP:20260422T111338
CREATED:20250424T173756Z
LAST-MODIFIED:20250424T173756Z
UID:20767-1745751600-1745764200@umpartnershipwithwestbaltimore.org
SUMMARY:How to Ball 2025
DESCRIPTION:\nThe Southwest Baltimore’s Flag Football and Financial Literacy workshop are currently recruiting volunteers at the Poppleton Recreation Center. Consider volunteering to support West Baltimore youth and families as they navigate financially literacy with a bit of FLAG FOOTBALL! \n\n
URL:https://umpartnershipwithwestbaltimore.org/opportunity/how-to-ball-2025/
LOCATION:Poppleton Recreation Center\, 1049 W Saratoga St\, Baltimore\, MD\, 21223\, United States
GEO:39.292053;-76.635228
X-APPLE-STRUCTURED-LOCATION;VALUE=URI;X-ADDRESS=Poppleton Recreation Center 1049 W Saratoga St Baltimore MD 21223 United States;X-APPLE-RADIUS=500;X-TITLE=1049 W Saratoga St:geo:-76.635228,39.292053
CATEGORIES:Children & Youth,Community,Literacy,Youth Development
ATTACH;FMTTYPE=image/png:https://umpartnershipwithwestbaltimore.org/wp-content/uploads/2025/04/howweball.png
END:VEVENT
END:VCALENDAR