BEGIN:VCALENDAR
VERSION:2.0
PRODID:-//UM Partnership with West Baltimore - ECPv4.6.26.2//NONSGML v1.0//EN
CALSCALE:GREGORIAN
METHOD:PUBLISH
X-WR-CALNAME:UM Partnership with West Baltimore
X-ORIGINAL-URL:https://umpartnershipwithwestbaltimore.org
X-WR-CALDESC:Events for UM Partnership with West Baltimore
BEGIN:VEVENT
DTSTART;VALUE=DATE:20230919
DTEND;VALUE=DATE:20230920
DTSTAMP:20260422T153745
CREATED:20230919T001845Z
LAST-MODIFIED:20231205T173722Z
UID:18062-1695081600-1695167999@umpartnershipwithwestbaltimore.org
SUMMARY:Higher Achievement Seeking Math Tutors and Mentors!
DESCRIPTION:Higher Achievement’s model delivers educational support grounded in social justice principles. Our afterschool program for 5th-8th grade scholars combines academic enrichment with social-emotional skill building\, culminating in placement in college preparatory high schools. \nHigher Achievement is seeking tutors specialized in math academic enrichment and homework support. Higher Achievement’s academic enrichment activities sharpen scholars’ math skills\, get extra support in challenging concepts\, and provide a safe space to grow and learn. During learning blocks\, scholars participate in educational electives\, work on high school applications\, and complete their homework with support from staff. \nHigher Achievement’s mentors are key partners to our scholars’ success\, joining us each week to make a measurable and clear impact on the lives of young people. \nOur mentors range from college students to retirees\, coming from all kinds of personal and professional backgrounds. They comprise a rich network of community members who are invested in the neighborhoods where they work and live\, and who believe that opportunities make all the difference. No teaching experience is required. \nMath tutors dedicate a minimum of one hour per week\, but are welcome to dedicate more time!\nMentors dedicate one hour per week with an academic (October – May) commitment! \n
URL:https://umpartnershipwithwestbaltimore.org/opportunity/higher-achievement-seeking-math-tutors-and-mentors/2023-09-19/
LOCATION:Lakeland Elementary/Middle School\, 2921 Stranden Rd\, Baltimore\, 21230
GEO:39.2536669;-76.6447292
X-APPLE-STRUCTURED-LOCATION;VALUE=URI;X-ADDRESS=Lakeland Elementary/Middle School 2921 Stranden Rd Baltimore 21230;X-APPLE-RADIUS=500;X-TITLE=2921 Stranden Rd:geo:-76.6447292,39.2536669
CATEGORIES:Children & Youth,Community,Education,STEM
ATTACH;FMTTYPE=image/jpeg:https://umpartnershipwithwestbaltimore.org/wp-content/uploads/2023/09/Standard-Logo-Big-.jpg
END:VEVENT
END:VCALENDAR