BEGIN:VCALENDAR
VERSION:2.0
PRODID:-//UM Partnership with West Baltimore - ECPv4.6.26.2//NONSGML v1.0//EN
CALSCALE:GREGORIAN
METHOD:PUBLISH
X-WR-CALNAME:UM Partnership with West Baltimore
X-ORIGINAL-URL:https://umpartnershipwithwestbaltimore.org
X-WR-CALDESC:Events for UM Partnership with West Baltimore
BEGIN:VEVENT
DTSTART;TZID=UTC+0:20250721T100000
DTEND;TZID=UTC+0:20250721T130000
DTSTAMP:20260422T135405
CREATED:20250721T132412Z
LAST-MODIFIED:20250721T133753Z
UID:20863-1753092000-1753102800@umpartnershipwithwestbaltimore.org
SUMMARY:Gallery Assistant
DESCRIPTION:The Reginald F Lewis Museum is looking for volunteers to assist with welcoming tour groups. These volunteers are not tour guides but would assist in greeting groups\, giving general information about the gallery and assisting in the galleries as needed. \n
URL:https://umpartnershipwithwestbaltimore.org/opportunity/gallery-assistant/2025-07-21/
LOCATION:830 E Pratt St\, Baltimore\, MD 21202\, 830 E Pratt St\, Baltimore\, MD 21202\, Baltimore\, MD\, 21202
GEO:39.2873932;-76.6038125
X-APPLE-STRUCTURED-LOCATION;VALUE=URI;X-ADDRESS=830 E Pratt St Baltimore MD 21202 830 E Pratt St Baltimore MD 21202 Baltimore MD 21202;X-APPLE-RADIUS=500;X-TITLE=830 E Pratt St\, Baltimore\, MD 21202:geo:-76.6038125,39.2873932
END:VEVENT
END:VCALENDAR