BEGIN:VCALENDAR
VERSION:2.0
PRODID:-//UM Partnership with West Baltimore - ECPv4.6.26.2//NONSGML v1.0//EN
CALSCALE:GREGORIAN
METHOD:PUBLISH
X-WR-CALNAME:UM Partnership with West Baltimore
X-ORIGINAL-URL:https://umpartnershipwithwestbaltimore.org
X-WR-CALDESC:Events for UM Partnership with West Baltimore
BEGIN:VEVENT
DTSTART;TZID=UTC+0:20250721T075000
DTEND;TZID=UTC+0:20250721T103000
DTSTAMP:20260422T202949
CREATED:20250721T151842Z
LAST-MODIFIED:20250721T161713Z
UID:20971-1753084200-1753093800@umpartnershipwithwestbaltimore.org
SUMMARY:Breakfast Service Support
DESCRIPTION:Serve a nutritious meal to our guests and facilitate the breakfast service operation. \nServe hot food\nServe coffee & water\nBus tables / assist guests with trays\nSpray and run dishes through dishwasher\nDishwasher assistant–bring clean dishes out\nRecord statistics and demographics of guests\nAbilities: \nAble to stand for three hours.\nAble to lift at least five pounds.\nAble to pleasantly interact with a variety of people from all walks of life.\nWilling to follow directions and adhere to agency policies \n
URL:https://umpartnershipwithwestbaltimore.org/opportunity/breakfast-service-support/2025-07-21/
LOCATION:435 E. 25th Street\, 435 E. 25th Street\, Baltimore MD\, 21218
GEO:39.3178812;-76.610067
X-APPLE-STRUCTURED-LOCATION;VALUE=URI;X-ADDRESS=435 E. 25th Street 435 E. 25th Street Baltimore MD 21218;X-APPLE-RADIUS=500;X-TITLE=435 E. 25th Street:geo:-76.610067,39.3178812
END:VEVENT
END:VCALENDAR