BEGIN:VCALENDAR
VERSION:2.0
PRODID:-//UM Partnership with West Baltimore - ECPv4.6.26.2//NONSGML v1.0//EN
CALSCALE:GREGORIAN
METHOD:PUBLISH
X-WR-CALNAME:UM Partnership with West Baltimore
X-ORIGINAL-URL:https://umpartnershipwithwestbaltimore.org
X-WR-CALDESC:Events for UM Partnership with West Baltimore
BEGIN:VEVENT
DTSTART;TZID=UTC+0:20250426T070000
DTEND;TZID=UTC+0:20250426T130000
DTSTAMP:20260422T083331
CREATED:20250407T233138Z
LAST-MODIFIED:20250407T235650Z
UID:20746-1745650800-1745672400@umpartnershipwithwestbaltimore.org
SUMMARY:4th Annual HCAM "5K for the Health of It!"
DESCRIPTION:HealthCare Access Maryland (HCAM) is thrilled to present the 4th annual “5K For the Health of It!” We invite you to join us in celebrating our service and dedication to making Maryland healthier. Volunteers help ensure everyone has a great race experience! Register now for volunteer roles and group volunteer opportunities. Virtual race options available too (deadline is April 13th) \n
URL:https://umpartnershipwithwestbaltimore.org/opportunity/4th-annual-hcam-5k-for-the-health-of-it/
LOCATION:West Shore Park\, 401 Light Street\, Baltimore\, MD\, 21202\, United States
GEO:39.2843897;-76.6120499
X-APPLE-STRUCTURED-LOCATION;VALUE=URI;X-ADDRESS=West Shore Park 401 Light Street Baltimore MD 21202 United States;X-APPLE-RADIUS=500;X-TITLE=401 Light Street:geo:-76.6120499,39.2843897
ATTACH;FMTTYPE=image/jpeg:https://umpartnershipwithwestbaltimore.org/wp-content/uploads/2025/04/HCAM-5k.jpg
ORGANIZER;CN="Audrey%20Chesser":MAILTO:achesser@hcamaryland.org
END:VEVENT
END:VCALENDAR